BEGIN:VCALENDAR
PRODID:-//eluceo/ical//2.0/EN
VERSION:2.0
CALSCALE:GREGORIAN
BEGIN:VEVENT
UID:6ee920d4be79d349fdd35125cad48f73
DTSTAMP:20260420T103832Z
SUMMARY:Mitgliederversammlung
DESCRIPTION:Webseite: https://gasthofschuetzen.ch
URL:https://aarau.innerwheel.ch/de/agenda/show/7640
DTSTART;TZID=Europe/Zurich:20250313T114500
DTEND;TZID=Europe/Zurich:20250313T140000
LOCATION:Gasthof Schützen\, Schachenallee 39\, 5000 Aarau\, Schweiz
CATEGORIES:Inner Wheel
END:VEVENT
BEGIN:VTIMEZONE
TZID:Europe/Zurich
BEGIN:STANDARD
DTSTART:20250313T114500
TZNAME:CET
TZOFFSETTO:+0100
TZOFFSETFROM:+0100
END:STANDARD
END:VTIMEZONE
END:VCALENDAR
