BEGIN:VCALENDAR
PRODID:-//eluceo/ical//2.0/EN
VERSION:2.0
CALSCALE:GREGORIAN
BEGIN:VEVENT
UID:82a320e0cf05d7e091d14c6d587228e2
DTSTAMP:20260420T103014Z
SUMMARY:Plauderlunch
DESCRIPTION:Site internet: https://gasthofschuetzen.ch\nConférencier(s): 
URL:https://aarau.innerwheel.ch/fr/agenda/show/7773
DTSTART;TZID=Europe/Zurich:20250410T114500
DTEND;TZID=Europe/Zurich:20250414T140000
LOCATION:Gasthof Schützen\, Schachenallee 39\, 5000 Aarau\, Schweiz
CATEGORIES:Inner Wheel
END:VEVENT
BEGIN:VTIMEZONE
TZID:Europe/Zurich
BEGIN:DAYLIGHT
DTSTART:20250410T114500
TZNAME:CEST
TZOFFSETTO:+0200
TZOFFSETFROM:+0200
END:DAYLIGHT
END:VTIMEZONE
END:VCALENDAR
