BEGIN:VCALENDAR
PRODID:-//eluceo/ical//2.0/EN
VERSION:2.0
CALSCALE:GREGORIAN
BEGIN:VEVENT
UID:011a62fecc1028ade5ef31b5d48c01ac
DTSTAMP:20260420T154255Z
SUMMARY:Lunch mit Kurzreferat über Einsatz beim Suppentag sowie Vorstellun
 g der "neuen" Mitglieder
DESCRIPTION:Sito web: https://gasthofschuetzen.ch\nRelatore/i: Frau Ursula 
 Kurer Schweizer Tafel/Suppentag
URL:https://aarau.innerwheel.ch/it/agenda/show/7321
DTSTART;TZID=Europe/Zurich:20241010T114500
DTEND;TZID=Europe/Zurich:20241010T140000
LOCATION:Gasthof Schützen\, Schachenallee 39\, 5000 Aarau\, Schweiz
CATEGORIES:Inner Wheel
END:VEVENT
BEGIN:VTIMEZONE
TZID:Europe/Zurich
BEGIN:DAYLIGHT
DTSTART:20241010T114500
TZNAME:CEST
TZOFFSETTO:+0200
TZOFFSETFROM:+0200
END:DAYLIGHT
END:VTIMEZONE
END:VCALENDAR
