BEGIN:VCALENDAR
PRODID:-//eluceo/ical//2.0/EN
VERSION:2.0
CALSCALE:GREGORIAN
BEGIN:VEVENT
UID:857687593a077d9482de87d71c2e5eae
DTSTAMP:20260422T101557Z
SUMMARY:Lunch mit Besuch von unserer Governor Daniela Voegele
DESCRIPTION:Sito web: https://gasthofschuetzen.ch\nRelatore/i: Frau Daniela
  Voegele
URL:https://aarau.innerwheel.ch/it/agenda/show/7392
DTSTART;TZID=Europe/Zurich:20241114T114500
DTEND;TZID=Europe/Zurich:20241114T140000
LOCATION:Gasthof Schützen\, Schachenallee 39\, 5000 Aarau\, Schweiz
CATEGORIES:Inner Wheel
END:VEVENT
BEGIN:VTIMEZONE
TZID:Europe/Zurich
BEGIN:STANDARD
DTSTART:20241114T114500
TZNAME:CET
TZOFFSETTO:+0100
TZOFFSETFROM:+0100
END:STANDARD
END:VTIMEZONE
END:VCALENDAR
