BEGIN:VCALENDAR
PRODID:-//eluceo/ical//2.0/EN
VERSION:2.0
CALSCALE:GREGORIAN
BEGIN:VEVENT
UID:d3ce037e42cf111c6e5cff66643404b5
DTSTAMP:20260424T095219Z
SUMMARY:Lunch mit dem Besuch unserer Distriktpräsidentin Theres Münch sow
 ie der Aufnahme von Maja Scherrer
DESCRIPTION:Sito web: https://gasthofschuetzen.ch\nRelatore/i: Frau Theres 
 Münch
URL:https://aarau.innerwheel.ch/it/agenda/show/8561
DTSTART;TZID=Europe/Zurich:20251113T114500
DTEND;TZID=Europe/Zurich:20251113T140000
LOCATION:Gasthof Schützen\, Schachenallee 39\, 5000 Aarau\, Schweiz
CATEGORIES:Inner Wheel
END:VEVENT
BEGIN:VTIMEZONE
TZID:Europe/Zurich
BEGIN:STANDARD
DTSTART:20251113T114500
TZNAME:CET
TZOFFSETTO:+0100
TZOFFSETFROM:+0100
END:STANDARD
END:VTIMEZONE
END:VCALENDAR
