BEGIN:VCALENDAR
PRODID:-//eluceo/ical//2.0/EN
VERSION:2.0
CALSCALE:GREGORIAN
BEGIN:VEVENT
UID:5de52019b580180e4355b88f6244beba
DTSTAMP:20260420T152925Z
SUMMARY:Lunch mit Referat vom Verein Soulman
DESCRIPTION:Sito web: https://gasthofschuetzen.ch\nRelatore/i: Frau Carla D
 ioum\, Verein Katzenhübel
URL:https://aarau.innerwheel.ch/it/agenda/show/9020
DTSTART;TZID=Europe/Zurich:20260212T114500
DTEND;TZID=Europe/Zurich:20260212T140000
LOCATION:Gasthof Schützen\, Schachenallee 39\, 5000 Aarau\, Schweiz
CATEGORIES:Inner Wheel
END:VEVENT
BEGIN:VTIMEZONE
TZID:Europe/Zurich
BEGIN:STANDARD
DTSTART:20260212T114500
TZNAME:CET
TZOFFSETTO:+0100
TZOFFSETFROM:+0100
END:STANDARD
END:VTIMEZONE
END:VCALENDAR
