BEGIN:VCALENDAR
PRODID:-//eluceo/ical//2.0/EN
VERSION:2.0
CALSCALE:GREGORIAN
BEGIN:VEVENT
UID:e5a4cf9ea678a2c63bc74f3a20446001
DTSTAMP:20260420T153451Z
SUMMARY:Mitgliederversammlung 2026
DESCRIPTION:Sito web: https://gasthofschuetzen.ch
URL:https://aarau.innerwheel.ch/it/agenda/show/9066
DTSTART;TZID=Europe/Zurich:20260312T114500
DTEND;TZID=Europe/Zurich:20260312T140000
LOCATION:Gasthof Schützen\, Schachenallee 39\, 5000 Aarau\, Schweiz
CATEGORIES:Inner Wheel
END:VEVENT
BEGIN:VTIMEZONE
TZID:Europe/Zurich
BEGIN:STANDARD
DTSTART:20260312T114500
TZNAME:CET
TZOFFSETTO:+0100
TZOFFSETFROM:+0100
END:STANDARD
END:VTIMEZONE
END:VCALENDAR
